BEGIN:VCALENDAR
VERSION:2.0
PRODID:-//My Community Diary//iCal Event//EN
CALSCALE:GREGORIAN
METHOD:PUBLISH
BEGIN:VEVENT
UID:76d82eec-43fa-46a7-b59a-d5222f725b8e
DTSTAMP:20260424T160512Z
DTSTART:20230304T000000Z
DTEND:20230304T235959Z
SUMMARY:Art & Sip Dungog
DESCRIPTION:Come and enjoy an afternoon in the beautiful backyard of the old Dungog Inn\, Dungog's oldest building\, with a cheeky glass of wine\, friends\, drawing materials and an easel!  \n\nBring a friend or two\, have some fun and see what you can create.  \n\nNo previous experience necessary.   All materials supplied\, or you can bring your own!\n\nDrawing is a wonderful way of connecting with the most precious natural world around us\, truly “seeing” the detail in the subject we are drawing and being in the moment.\n\nEntry Cost\nAll tickets $50 
LOCATION:\, 211 Dowling Street\, Dungog\, NSW 2420\, NSW\, 2420
RRULE:FREQ=DAILY;INTERVAL=1;UNTIL=20240526T000000Z
END:VEVENT
END:VCALENDAR
