BEGIN:VCALENDAR
VERSION:2.0
PRODID:-//My Community Diary//iCal Event//EN
CALSCALE:GREGORIAN
METHOD:PUBLISH
BEGIN:VEVENT
UID:d45e5180-3fb3-4e98-a421-5f37c549b6dc
DTSTAMP:20260424T160510Z
DTSTART;VALUE=DATE:20210120
DTEND;VALUE=DATE:20210121
SUMMARY:Dietitian - Morven
DESCRIPTION:SWHHS Dietetic provide expert nutrition and diet advice for clients\, their families and carers across all age groups. Dietetic supports the management of diets and nutrition for clients who may be affected by health conditions and to also assist clients to change their diet so that they can become healthier and stay healthy. Dietetic services are provided in collaboration with other Allied Health services. Dietetic services also undertake health promotion work in local areas to promote healthy communities. &nbsp\;&nbsp\;&nbsp\;\n
LOCATION:Morven Community Clinic\, 59 Warrego Highway Morven QLD 4468\, QLD\, 4468
RRULE:FREQ=WEEKLY;INTERVAL=8;BYDAY=WE,FR
END:VEVENT
END:VCALENDAR
