BEGIN:VCALENDAR
VERSION:2.0
PRODID:-//My Community Diary//iCal Event//EN
CALSCALE:GREGORIAN
METHOD:PUBLISH
BEGIN:VEVENT
UID:6ac4625b-00f9-42ab-90f3-8da469b29315
DTSTAMP:20260424T155900Z
DTSTART;VALUE=DATE:20210120
DTEND;VALUE=DATE:20210121
SUMMARY:Speech Pathology - Morven
DESCRIPTION:SWHHS Speech Pathology offers assessment and management of speech\, swallowing\, voice and communication difficulties across all age groups. Speech Pathology is provided in inpatient and outpatient settings and in outreach areas and can also be offered through telehealth services.\n
LOCATION:Morven Community Clinic\, 59 Warrego Highway Morven QLD 4468\, QLD\, 4468
RRULE:FREQ=WEEKLY;INTERVAL=4;BYDAY=WE
END:VEVENT
END:VCALENDAR
