BEGIN:VCALENDAR
VERSION:2.0
PRODID:-//My Community Diary//iCal Event//EN
CALSCALE:GREGORIAN
METHOD:PUBLISH
BEGIN:VEVENT
UID:bb37fe76-26c0-44f5-9b5d-968e5823d2c4
DTSTAMP:20260424T155837Z
DTSTART;VALUE=DATE:20210205
DTEND;VALUE=DATE:20210206
SUMMARY:Physiotherapy - Cunnamulla
DESCRIPTION:SWHHS Physiotherapy service aims to restore and maintain mobility\, function\, and well-being for clients with new symptoms\, existing long-term symptoms\, or provide strategies for prevention of disease and injury. Physiotherapy service is provided to clients across all age groups with movement and other disorders and also provides supportive end-of-life and terminal illness care.\n
LOCATION:Cunnamulla Hospital\, 56 Wicks Street\, Cunnamulla QLD 4490\, QLD\, 4490
RRULE:FREQ=WEEKLY;INTERVAL=4;BYDAY=FR
END:VEVENT
END:VCALENDAR
