BEGIN:VCALENDAR
VERSION:2.0
PRODID:-//My Community Diary//iCal Event//EN
CALSCALE:GREGORIAN
METHOD:PUBLISH
BEGIN:VEVENT
UID:71e41b5c-5548-4cae-9f43-e8650ec03979
DTSTAMP:20260424T155946Z
DTSTART;TZID=E. Australia Standard Time:20210219T100000
DTEND;TZID=E. Australia Standard Time:20210219T170000
SUMMARY:A Changing Ecology
DESCRIPTION:Foundation Gallery\, Artspace Mackay\n19 February - 16 May 2021\n\nDrawing from historical and contemporary works held in the Mackay Regional Council Art Collection and Mackay Libraries’ Heritage Collection\, A Changing Ecology explores representations of Mackay and greater Queensland’s flora and fauna since colonisation. The exhibition features early local photographs and glass plate negatives\, historic botanical illustrations and floral still lifes alongside Indigenous voices including Danie Mellor\, Fiona Foley\, and Archie Moore\, whose works look back on these past visualisations of Australia and its people.\n
LOCATION:Artspace Mackay\, Gordon Street\, Mackay QLD 4740\, QLD\, 4740
RRULE:FREQ=DAILY;INTERVAL=1;UNTIL=20210517T000000Z
END:VEVENT
END:VCALENDAR
