BEGIN:VCALENDAR
VERSION:2.0
PRODID:-//My Community Diary//iCal Event//EN
CALSCALE:GREGORIAN
METHOD:PUBLISH
BEGIN:VEVENT
UID:59084761-326e-4266-849f-0d05d99f8bc2
DTSTAMP:20260424T155959Z
DTSTART;TZID=E. Australia Standard Time:20210204T100000
DTEND;TZID=E. Australia Standard Time:20210204T170000
SUMMARY:Tony DRUERY: Horizons
DESCRIPTION:Foyer Gallery\, Artspace Mackay\n04 February - 16 May 2021\n\nTony Druery (1964 - 2016) was an artist and educator in the Mackay community\, creating images that spoke to his love of the water\, the Australian outback and scenes closer to home. His dynamic fish-eye views of Mackay’s construction boom in the late 2000s capture a rapidly changing cityscape at an important time in the town’s recent history. Druery’s linocut prints exploit the visual attractions of cranes and scaffolding while also expressing the disorientation felt by many of Mackay’s local residents at the time. In recognition of Druery’s untimely death\, the exhibition will showcase well-loved works alongside unexhibited pieces to commemorate his legacy within the local arts community.\n\nIMAGE: Tony DRUERY A new level (detailed) c. 2009\, linocut print\, edition 8/10\, 28 x 41 cm. Image courtesy the artist.\n
LOCATION:Artspace Mackay\, Gordon Street\, Mackay QLD 4740\, QLD\, 4740
RRULE:FREQ=DAILY;INTERVAL=1;UNTIL=20210517T000000Z
END:VEVENT
END:VCALENDAR
