BEGIN:VCALENDAR
VERSION:2.0
PRODID:-//My Community Diary//iCal Event//EN
CALSCALE:GREGORIAN
METHOD:PUBLISH
BEGIN:VEVENT
UID:3cb435f2-5616-4df6-9f9d-b9dbffe5c993
DTSTAMP:20260424T160641Z
DTSTART;VALUE=DATE:20210204
DTEND;VALUE=DATE:20210205
SUMMARY:Physiotherapy - Thargomindah
DESCRIPTION:SWHHS Physiotherapy service aims to restore and maintain mobility\, function\, and well-being for clients with new symptoms\, existing long-term symptoms\, or provide strategies for prevention of disease and injury. Physiotherapy service is provided to clients across all age groups with movement and other disorders and also provides supportive end-of-life and terminal illness care.\n
LOCATION:Thargomindah Community Clinic\, Dowling Street\, Thargomindah QLD 4492\, QLD\, 4492
RRULE:FREQ=WEEKLY;INTERVAL=4;BYDAY=TH
END:VEVENT
END:VCALENDAR
