BEGIN:VCALENDAR
VERSION:2.0
PRODID:-//My Community Diary//iCal Event//EN
CALSCALE:GREGORIAN
METHOD:PUBLISH
BEGIN:VEVENT
UID:127a2414-4367-4692-a5b2-b4bc4594da83
DTSTAMP:20260424T160649Z
DTSTART;TZID=E. Australia Standard Time:20210110T171500
DTEND;TZID=E. Australia Standard Time:20210110T180000
SUMMARY:Hot meals and Non perishables 
DESCRIPTION:Giving hot meals and non perishables to vulnerable people\n
LOCATION:\, Emma Miller Place\, Roma Street\, Brisbane City QLD\, Australia\, QLD\, 4000
RRULE:FREQ=WEEKLY;INTERVAL=1;BYDAY=SU
END:VEVENT
END:VCALENDAR
