BEGIN:VCALENDAR
VERSION:2.0
PRODID:-//My Community Diary//iCal Event//EN
CALSCALE:GREGORIAN
METHOD:PUBLISH
BEGIN:VEVENT
UID:18ed191b-1fa8-443d-8115-1a58acf6c2c5
DTSTAMP:20260424T160645Z
DTSTART;TZID=E. Australia Standard Time:20210115T181500
DTEND;TZID=E. Australia Standard Time:20210115T190000
SUMMARY:Hot meals and Non perishables 
DESCRIPTION:Giving hot meals to vulnerable people of Brisbane\n
LOCATION:Emma miller Park\, Brisbane City\, Emma Miller Place\, Roma Street\, Brisbane City QLD\, Australia\, QLD\, 4000
RRULE:FREQ=WEEKLY;INTERVAL=1;BYDAY=FR
END:VEVENT
END:VCALENDAR
