BEGIN:VCALENDAR
VERSION:2.0
PRODID:-//My Community Diary//iCal Event//EN
CALSCALE:GREGORIAN
METHOD:PUBLISH
BEGIN:VEVENT
UID:a017c49e-8b21-4b41-9bfe-5d893ef95f7b
DTSTAMP:20260424T160649Z
DTSTART;VALUE=DATE:20210113
DTEND;VALUE=DATE:20210114
SUMMARY:Physiotherapy - Augathella
DESCRIPTION:&nbsp\;SWHHS Physiotherapy service aims to restore and maintain mobility\, function\, and well-being for clients with new symptoms\, existing long-term symptoms\, or provide strategies for prevention of disease and injury. Physiotherapy service is provided to clients across all age groups with movement and other disorders and also provides supportive end-of-life and terminal illness care.\n
LOCATION:Augathella Multipurpose Health Service\, Cavanagh Street\, Augathella QLD 4477\, QLD\, 4477
RRULE:FREQ=WEEKLY;INTERVAL=2;BYDAY=WE
END:VEVENT
END:VCALENDAR
