BEGIN:VCALENDAR
VERSION:2.0
PRODID:-//My Community Diary//iCal Event//EN
CALSCALE:GREGORIAN
METHOD:PUBLISH
BEGIN:VEVENT
UID:144ca5da-91c5-401f-9a1e-a11828215b99
DTSTAMP:20260424T160635Z
DTSTART;VALUE=DATE:20210119
DTEND;VALUE=DATE:20210120
SUMMARY:Occupational Therapy – Augathella
DESCRIPTION:SWHHS Occupational Therapy (OT) service assist clients across all age groups to develop\, improve or regain the skills needed for day-to-day life and/or work following injury\, illness or disability. OT can also assist with home modification and equipment prescription to assist people to safely stay living in their homes. OT services are provided in both inpatient and outpatient settings.\n
LOCATION:Augathella Multipurpose Health Service\, Cavanagh Street\, Augathella QLD 4477\, QLD\, 4477
RRULE:FREQ=WEEKLY;INTERVAL=4;BYDAY=TU
END:VEVENT
END:VCALENDAR
