BEGIN:VCALENDAR
VERSION:2.0
PRODID:-//My Community Diary//iCal Event//EN
CALSCALE:GREGORIAN
METHOD:PUBLISH
BEGIN:VEVENT
UID:a81376fc-c716-4b8c-a5a8-3c7c0fe09356
DTSTAMP:20260424T173137Z
DTSTART;VALUE=DATE:20210218
DTEND;VALUE=DATE:20210219
SUMMARY:Child Health Nurse - Augathella
DESCRIPTION:SWHHS Child Health Nurses provide clinical care for children from birth through to late teens\, their families and carers. Child Health Nurses works with the child and family in the plan of care\, needs related to growth and development and determining needs based on analysis of the child’s symptoms.\n
LOCATION:Augathella Multipurpose Health Service\, Cavanagh Street\, Augathella QLD 4477\, QLD\, 4477
RRULE:FREQ=WEEKLY;INTERVAL=4;BYDAY=TH
END:VEVENT
END:VCALENDAR
