BEGIN:VCALENDAR
VERSION:2.0
PRODID:-//My Community Diary//iCal Event//EN
CALSCALE:GREGORIAN
METHOD:PUBLISH
BEGIN:VEVENT
UID:c0fd8b30-1002-48a2-89bd-aba8f513b92d
DTSTAMP:20260424T160633Z
DTSTART;VALUE=DATE:20230717
DTEND;VALUE=DATE:20230718
SUMMARY:Child Health Nurse - Morven
DESCRIPTION:SWHHS Child Health Nurses provide clinical care for children from birth through to late teens\, their families and carers. Child Health Nurses works with the child and family in the plan of care\, needs related to growth and development and determining needs based on analysis of the child’s symptoms.\n
LOCATION:Morven Community Clinic\, 59 Warrego Highway Morven QLD 4468\, QLD\, 4468
RRULE:FREQ=WEEKLY;INTERVAL=4;BYDAY=MO
END:VEVENT
END:VCALENDAR
