BEGIN:VCALENDAR
VERSION:2.0
PRODID:-//My Community Diary//iCal Event//EN
CALSCALE:GREGORIAN
METHOD:PUBLISH
BEGIN:VEVENT
UID:fe398c38-256d-467b-9f09-8a2e6fbeaa49
DTSTAMP:20260424T181538Z
DTSTART:20201231T110000Z
DTEND:20201231T220000Z
SUMMARY:Paint and Sip Experience Liverpool
DESCRIPTION:Paint and Sip Studios is Australia's #1 Paint and Sip Experience.\n\nPaint and Sip Studios combines the fun and relaxation of a party with step-by-step group painting and art experiences.\n\nEvents are generally around two to four hours and are aimed at the non-artist with focus on the occasion and experience with the option of bringing your own food and drinks. Your experience will see you painting in acrylic paints on 30x40cm canvas guided step by step by our lead artist. Paint and Sip Studios specialize in occasion based and themed experiences for a night of fun and laughter. They have a large variety of paintings and experiences to choose from on the website.\n\nEntry Cost\nAll tickets $29  - Kids event prices from AUD29\nAdult event prices from AUD50
LOCATION:\, 101 Moore Street 1\, Liverpool\, NSW 2170\, NSW\, 2170
RRULE:FREQ=DAILY;INTERVAL=1;UNTIL=20240105T000000Z
END:VEVENT
END:VCALENDAR
