BEGIN:VCALENDAR
VERSION:2.0
PRODID:-//My Community Diary//iCal Event//EN
CALSCALE:GREGORIAN
METHOD:PUBLISH
BEGIN:VEVENT
UID:5eefc053-c8c5-428c-b205-f00058935ddf
DTSTAMP:20260424T160636Z
DTSTART;TZID=E. Australia Standard Time:20210929T190000
DTEND;TZID=E. Australia Standard Time:20210929T210000
SUMMARY:Gold Coast Speaking Club - Palm Beach-Currumbin Toastmasters
DESCRIPTION:Join us in Palm Beach Currumbin Toastmasters meeting. Guests are most welcome!\n\nFriendly and supportive Club Meetings incorporate planned speeches\, impromptu speaking\, and helpful feedback through evaluations to encourage improvement and personal growth.\n\nWe also have ... FUN! and learn about topics we have never been exposed to before.\n\nWheelchair friendly venue.\n
LOCATION:Toastmasters - Palm Beach Currumbin Club\, Currumbin Waters QLD 4223\, QLD\, 4223
END:VEVENT
END:VCALENDAR
