BEGIN:VCALENDAR
VERSION:2.0
PRODID:-//My Community Diary//iCal Event//EN
CALSCALE:GREGORIAN
METHOD:PUBLISH
BEGIN:VEVENT
UID:9c679f92-d322-4cfd-89ed-3db92061f36b
DTSTAMP:20260424T164948Z
DTSTART;TZID=W. Australia Standard Time:20210107T063000
DTEND;TZID=W. Australia Standard Time:20210107T180000
SUMMARY:Samson Kindy
DESCRIPTION:A privately run 3 year old Kindy and before and after school care including vacation care.\n\nOpened&nbsp\;4 January 2021 Monday - Friday.\n\nCall 62950890 or 0410 550 890 for more details\n
LOCATION:Samson Recreation Centre \, 44 McCombe Avenue\, Samson WA 6163\, WA\, 6163
RRULE:FREQ=WEEKLY;BYDAY=MO,TU,WE,TH,FR
END:VEVENT
END:VCALENDAR
