BEGIN:VCALENDAR
VERSION:2.0
PRODID:-//My Community Diary//iCal Event//EN
CALSCALE:GREGORIAN
METHOD:PUBLISH
BEGIN:VEVENT
UID:7e8dfb30-2b35-4ecf-9e14-34d534764aa7
DTSTAMP:20260424T160636Z
DTSTART;VALUE=DATE:20210114
DTEND;VALUE=DATE:20210115
SUMMARY:Speech Pathology
DESCRIPTION:WBHHS Speech Pathology offers assessment and management of speech\, swallowing\, voice and communication difficulties across all age groups when not eligible for other services such as education Queensland therapy services. Speech Pathology is provided in inpatient and outpatient settings and in outreach areas and can also be offered through telehealth services.\n
LOCATION:Eidsvold Hospital\, Eidsvold Hospital\, Eidsvold Theodore Road\, Eidsvold QLD\, Australia\, QLD\, 4627
RRULE:FREQ=WEEKLY;INTERVAL=2;BYDAY=TH
END:VEVENT
END:VCALENDAR
