BEGIN:VCALENDAR
VERSION:2.0
PRODID:-//My Community Diary//iCal Event//EN
CALSCALE:GREGORIAN
METHOD:PUBLISH
BEGIN:VEVENT
UID:bbb812b1-5102-4a0a-911f-4ae1cf3f1e97
DTSTAMP:20260424T160640Z
DTSTART;VALUE=DATE:20210107
DTEND;VALUE=DATE:20210108
SUMMARY:Speech Pathology
DESCRIPTION:WBHHS Speech Pathology offers assessment and management of speech\, swallowing\, voice and communication difficulties across all age groups when not eligible for other services such as education Queensland therapy services. Speech Pathology is provided in inpatient and outpatient settings and in outreach areas and can also be offered through telehealth services.\n
LOCATION:Monto Hospital\, 35 Flinders St\, Monto QLD\, Australia\, QLD\, 4630
RRULE:FREQ=WEEKLY;INTERVAL=2;BYDAY=TH
END:VEVENT
END:VCALENDAR
