BEGIN:VCALENDAR
VERSION:2.0
PRODID:-//My Community Diary//iCal Event//EN
CALSCALE:GREGORIAN
METHOD:PUBLISH
BEGIN:VEVENT
UID:2d895078-52c4-4f03-b490-156a94f87406
DTSTAMP:20260424T160025Z
DTSTART;VALUE=DATE:20210105
DTEND;VALUE=DATE:20210106
SUMMARY:Speech Pathology
DESCRIPTION:WBHHS Speech Pathology offers assessment and management of speech\, swallowing\, voice and communication difficulties across all age groups when not eligible for other services such as education Queensland therapy services. Speech Pathology is provided in inpatient and outpatient settings and in outreach areas and can also be offered through telehealth services.\n
LOCATION:Gin Gin Hospital\, Hospital\, 5 King St\, Gin Gin QLD\, Australia\, QLD\, 4671
RRULE:FREQ=WEEKLY;INTERVAL=2;BYDAY=TU
END:VEVENT
END:VCALENDAR
