BEGIN:VCALENDAR
VERSION:2.0
PRODID:-//My Community Diary//iCal Event//EN
CALSCALE:GREGORIAN
METHOD:PUBLISH
BEGIN:VEVENT
UID:586a5fee-1314-41e6-9dbc-783a06435db2
DTSTAMP:20260424T160635Z
DTSTART;VALUE=DATE:20210106
DTEND;VALUE=DATE:20210107
SUMMARY:Speech Pathology
DESCRIPTION:WBHHS Speech Pathology offers assessment and management of speech\, swallowing\, voice and communication difficulties across all age groups when not eligible for other services such as education Queensland therapy services. Speech Pathology is provided in inpatient and outpatient settings and in outreach areas and can also be offered through telehealth services.\n
LOCATION:Biggenden Hospital\, 57 Alice St\, Biggenden QLD\, Australia\, QLD\, 4621
RRULE:FREQ=WEEKLY;INTERVAL=2;BYDAY=WE
END:VEVENT
END:VCALENDAR
