BEGIN:VCALENDAR
VERSION:2.0
PRODID:-//My Community Diary//iCal Event//EN
CALSCALE:GREGORIAN
METHOD:PUBLISH
BEGIN:VEVENT
UID:67001aaa-1fc9-4d6f-ad1f-7bf8d5fa1135
DTSTAMP:20260424T160635Z
DTSTART;VALUE=DATE:20210107
DTEND;VALUE=DATE:20210108
SUMMARY:Physiotherapy
DESCRIPTION:WBHHS Physiotherapy service aims to restore and maintain mobility\, function\, and well-being for clients with new symptoms\, existing long-term symptoms\, or provide strategies for prevention of disease and injury. Physiotherapy service is provided to clients across all age groups with movement and other disorders and also provides supportive end-of-life and terminal illness care.\n
LOCATION:Biggenden Hospital\, 57 Alice St\, Biggenden QLD\, Australia\, QLD\, 4621
RRULE:FREQ=WEEKLY;INTERVAL=1;BYDAY=FR
END:VEVENT
END:VCALENDAR
