BEGIN:VCALENDAR
VERSION:2.0
PRODID:-//My Community Diary//iCal Event//EN
CALSCALE:GREGORIAN
METHOD:PUBLISH
BEGIN:VEVENT
UID:32865c7e-3903-4d69-9e5c-5edf8234154a
DTSTAMP:20260424T154956Z
DTSTART;VALUE=DATE:20210104
DTEND;VALUE=DATE:20210105
SUMMARY:Physiotherapy
DESCRIPTION:WBHHS Physiotherapy service aims to restore and maintain mobility\, function\, and well-being for clients with new symptoms\, existing long-term symptoms\, or provide strategies for prevention of disease and injury. Physiotherapy service is provided to clients across all age groups with movement and other disorders and also provides supportive end-of-life and terminal illness care.\n
LOCATION:Childers Hospital\, 44 Broadhurst St\, Childers QLD\, Australia\, QLD\, 4660
RRULE:FREQ=WEEKLY;INTERVAL=1;BYDAY=MO,WE,FR
END:VEVENT
END:VCALENDAR
