BEGIN:VCALENDAR
VERSION:2.0
PRODID:-//My Community Diary//iCal Event//EN
CALSCALE:GREGORIAN
METHOD:PUBLISH
BEGIN:VEVENT
UID:b302059f-a4de-432a-b0eb-470a9a1474c1
DTSTAMP:20260424T160641Z
DTSTART;VALUE=DATE:20210106
DTEND;VALUE=DATE:20210107
SUMMARY:Occupational Therapy
DESCRIPTION:WBHHS Occupational Therapy (OT) service assist clients across all age groups to develop\, improve or regain the skills needed for day-to-day life and/or work following injury\, illness or disability. &nbsp\;OT can also assist with home modification and equipment prescription to assist people to safely stay living in their homes. OT services are provided in both inpatient and outpatient settings.\n
LOCATION:Mundubbera Hospital\, 96 Leichhardt Street\, Mundubbera QLD\, Australia\, QLD\, 4626
RRULE:FREQ=WEEKLY;INTERVAL=1;BYDAY=TH
END:VEVENT
END:VCALENDAR
