BEGIN:VCALENDAR
VERSION:2.0
PRODID:-//My Community Diary//iCal Event//EN
CALSCALE:GREGORIAN
METHOD:PUBLISH
BEGIN:VEVENT
UID:3d852138-7ea6-4dea-9f21-31e3e314f15d
DTSTAMP:20260424T160636Z
DTSTART;VALUE=DATE:20210105
DTEND;VALUE=DATE:20210106
SUMMARY:Occupational Therapy 
DESCRIPTION:WBHHS Occupational Therapy (OT) service assist clients across all age groups to develop\, improve or regain the skills needed for day-to-day life and/or work following injury\, illness or disability. &nbsp\;OT can also assist with home modification and equipment prescription to assist people to safely stay living in their homes. OT services are provided in both inpatient and outpatient settings.\n
LOCATION:Monto Hospital\, 35 Flinders St\, Monto QLD\, Australia\, QLD\, 4630
RRULE:FREQ=WEEKLY;INTERVAL=1;BYDAY=TU
END:VEVENT
END:VCALENDAR
