BEGIN:VCALENDAR
VERSION:2.0
PRODID:-//My Community Diary//iCal Event//EN
CALSCALE:GREGORIAN
METHOD:PUBLISH
BEGIN:VEVENT
UID:b0ec2b02-7241-45a9-88b7-dde9f9685456
DTSTAMP:20260424T160000Z
DTSTART;VALUE=DATE:20210104
DTEND;VALUE=DATE:20210105
SUMMARY:Exercise Physiologist
DESCRIPTION:WBHHS Exercise Physiologist service provides education\, assessment\, support and monitoring for cardiac and pulmonary rehabilitation clients and those with chronic conditions to increase functional capacities and quality of life. Exercise Physiologist also undertake health promotion work in local areas to promote healthy communities.\n
LOCATION:Mundubbera Hospital\, 96 Leichhardt Street\, Mundubbera QLD\, Australia\, QLD\, 4626
RRULE:FREQ=WEEKLY;INTERVAL=1;BYDAY=MO
END:VEVENT
END:VCALENDAR
