BEGIN:VCALENDAR
VERSION:2.0
PRODID:-//My Community Diary//iCal Event//EN
CALSCALE:GREGORIAN
METHOD:PUBLISH
BEGIN:VEVENT
UID:78272947-94bf-4393-83bd-773a6b49a113
DTSTAMP:20260424T154943Z
DTSTART;VALUE=DATE:20210104
DTEND;VALUE=DATE:20210105
SUMMARY:Community Health Nurses
DESCRIPTION:WBHHS Community Health Nurses connects older persons\, their families and carers with in-home support services and support during the transition to higher-level care.&nbsp\; Community Health Nurse services provide advice\, information and links to community services and also support heart and lung services in North Burnett Communities. The community health nurse supports clients\, their families and carers with increasing health literacy to empower clients to proactively plan and manage their chronic disease condition. Chronic disease may include diabetes\, chronic kidney disease\, cardiovascular (heart) or respiratory (lung) conditions. This can include patients suffering from coronary artery disease or congestive heart failure\, or those recovering from angioplasty or bypass surgery or requiring oxygen to support continued living at home. The community health nurse also supports advance care/end of life care planning.\n
LOCATION:Mundubbera Hospital\, 96 Leichhardt St\, Mundubbera QLD\, Australia\, QLD\, 4626
RRULE:FREQ=WEEKLY;INTERVAL=1;BYDAY=MO,TU
END:VEVENT
END:VCALENDAR
