BEGIN:VCALENDAR
VERSION:2.0
PRODID:-//My Community Diary//iCal Event//EN
CALSCALE:GREGORIAN
METHOD:PUBLISH
BEGIN:VEVENT
UID:d05e8e98-efd5-4059-91dc-e54e1fb031d0
DTSTAMP:20260424T160623Z
DTSTART;VALUE=DATE:20210105
DTEND;VALUE=DATE:20210106
SUMMARY:Aboriginal and Torres Strait Islander Health
DESCRIPTION:WBHHS Aboriginal and Torres Strait Islander Liaison Officers and Health Workers advocate on behalf of and provide support to Aboriginal and Torres Strait Islander clients\, their families and carers throughout their healthcare journey including liaising with clinical staff to ensure culturally appropriate communication and services are provided.\n
LOCATION:Gin Gin Hospital\, Hospital\, 5 King St\, Gin Gin QLD\, Australia\, QLD\, 4671
RRULE:FREQ=WEEKLY;INTERVAL=2;BYDAY=TU
END:VEVENT
END:VCALENDAR
