BEGIN:VCALENDAR
VERSION:2.0
PRODID:-//My Community Diary//iCal Event//EN
CALSCALE:GREGORIAN
METHOD:PUBLISH
BEGIN:VEVENT
UID:efbe9eea-7409-4d9d-a969-350598f1ac52
DTSTAMP:20260424T160643Z
DTSTART;VALUE=DATE:20210107
DTEND;VALUE=DATE:20210108
SUMMARY:Aboriginal and Torres Strait Islander Health
DESCRIPTION:WBHHS Aboriginal and Torres Strait Islander Liaison Officers and Health Workers advocate on behalf of and provide support to Aboriginal and Torres Strait Islander clients\, their families and carers throughout their healthcare journey including liaising with clinical staff to ensure culturally appropriate communication and services are provided.\n
LOCATION:Monto Hospital\, 35 Flinders Street\, Monto QLD 4630\, QLD\, 4630
RRULE:FREQ=WEEKLY;INTERVAL=1;BYDAY=TH
END:VEVENT
END:VCALENDAR
