BEGIN:VCALENDAR
VERSION:2.0
PRODID:-//My Community Diary//iCal Event//EN
CALSCALE:GREGORIAN
METHOD:PUBLISH
BEGIN:VEVENT
UID:0728b709-0fcf-421a-acba-b3efc14765cc
DTSTAMP:20260424T160648Z
DTSTART;TZID=AUS Eastern Standard Time:20210328T100000
DTEND;TZID=AUS Eastern Standard Time:20210328T130000
SUMMARY:Open Day
DESCRIPTION:Find out how art can be part of your life.\n\nCome along to the Coffs Harbour Creative Art Group's Open Day at the Coffs Harbour Showground Gallery and meet the tutors\, learn what classes are available\, sign up to workshops\, and more.\n
LOCATION:Coffs Harbour Creative Arts Group\, 112 Pacific Highway\, Coffs Harbour NSW 2450\, NSW\, 2450
END:VEVENT
END:VCALENDAR
