BEGIN:VCALENDAR
VERSION:2.0
PRODID:-//My Community Diary//iCal Event//EN
CALSCALE:GREGORIAN
METHOD:PUBLISH
BEGIN:VEVENT
UID:1671d13e-f015-4162-b4df-01f0e8f641ac
DTSTAMP:20260424T160800Z
DTSTART:20231021T000000Z
DTEND:20231021T235959Z
SUMMARY:Art in the Vines - Sculpture Exhibition 2023-24
DESCRIPTION:Visit Hanging Rock Winery to experience Art in the Vines – Sculpture Exhibition.\n\nWander a trail of discovery\, glass-in-hand\, through this extraordinary exhibition of contemporary outdoor sculpture. It features more than 20 artworks from Australia’s most highly-acclaimed sculptors and is all set against the Macedon Ranges’ most iconic vista of their vineyard\, Hanging Rock and Mount Macedon. \n\nStart your experience with a visit to their Cellar Door\, where you’ll be guided through a tasting of some of the region’s finest – they’ve got the Macedon Ranges’ largest range. Choose your favourites and some extras to enjoy while you’re there\, match it with their selection of local cheeses\, charcuterie and preserves\, then find your spot on their deck or lawns\, sit back and relax. Once you’re done\, it’s up on your feet to wander the curated trail.
LOCATION:\, 88 Jim Road\, Newham\, VIC 3442\, VIC\, 3442
RRULE:FREQ=DAILY;INTERVAL=1;UNTIL=20240501T000000Z
END:VEVENT
END:VCALENDAR
