BEGIN:VCALENDAR
VERSION:2.0
PRODID:-//My Community Diary//iCal Event//EN
CALSCALE:GREGORIAN
METHOD:PUBLISH
BEGIN:VEVENT
UID:783a9280-b0f0-4528-9755-353cff05a858
DTSTAMP:20260424T163746Z
DTSTART;TZID=W. Australia Standard Time:20210226T120000
DTEND;TZID=W. Australia Standard Time:20210226T140000
SUMMARY:Micro Macrame Jewellery making & gemstone wrapping workshop
DESCRIPTION:&nbsp\;\n\nBeautiful waxed cord\, beads and gemstones can be transformed into unique jewellery pieces when incorporating Macrame knots. At this workshop you'll be guided through a range of Macrame knots to learn how to design and create your own jewellery piece on the day. Hear about best cord to use\, incorporating wrapped gemstones and beads and more.\nSupplied: A range of waxed cord and findings\, beads and a macrame knots instructions guide plus your 2 hours of guided facilitators knowledge. Feel free to BYO any beads or gemstones to incorporate. Tickets non-refundable but can be passed onto someone else.&nbsp\;\n\nMore info &amp\; Book here\n
LOCATION:South Fremantle\, South Terrace\, South Fremantle WA\, Australia\, WA\, 6162
END:VEVENT
END:VCALENDAR
