BEGIN:VCALENDAR
VERSION:2.0
PRODID:-//My Community Diary//iCal Event//EN
CALSCALE:GREGORIAN
METHOD:PUBLISH
BEGIN:VEVENT
UID:1c2b1891-d152-4571-b964-51724473ffca
DTSTAMP:20260424T155901Z
DTSTART;TZID=E. Australia Standard Time:20201217T090000
DTEND;TZID=E. Australia Standard Time:20201217T140000
SUMMARY:Crossfire Op Shop
DESCRIPTION:Providing local pre-loved clothing and household goods at more than usual discount prices\, especially through&nbsp\;COVID19 economic struggles on our community members.\n
LOCATION:The Message of the Cross Indigenous Corporation \, 7 Bell Street\, Ipswich QLD 4305\, QLD\, 4305
RRULE:FREQ=WEEKLY;INTERVAL=1;BYDAY=SA
END:VEVENT
END:VCALENDAR
