BEGIN:VCALENDAR
VERSION:2.0
PRODID:-//My Community Diary//iCal Event//EN
CALSCALE:GREGORIAN
METHOD:PUBLISH
BEGIN:VEVENT
UID:4b03d3cb-e373-44b0-86de-e71508ae2cbb
DTSTAMP:20260424T160509Z
DTSTART;TZID=AUS Eastern Standard Time:20210814T100000
DTEND;TZID=AUS Eastern Standard Time:20210814T110000
SUMMARY:Saturday Storytime at Toormina Library
DESCRIPTION:CHCC update regarding the Novel Coronavirus (COVID-19) pandemic:\n\nIn light of the recent changes to the NSW Government's COVID-19 restrictions and stay-at-home orders\, the Library will be cancelling Storytime and other Library Programs for the weeks of the 16th - 28th of August 2021. Further information on library services and programs will be communicated soon via our Facebook page and Library e-newsletter.\n\nThe safety and wellbeing of our employees\, volunteers and customers is a priority for Coffs Harbour City Council and we are following the advice of the Australian Government\, World Health Organisation (WHO) and NSW Health in the implementation of workplace measures to help minimise any possible infections. Council is taking a risk management approach to the pandemic and seeking to minimise any potential impact.\n\nAs a result Storytime has a new structure to follow when attending: Bookings for sessions are required and the sessions can be found on Eventbrite.\n\nWe please ask that if you are showing any of the symptoms of COVID-19\, or have been in contact with anyone who has been diagnosed or showing symptoms of COVID-19\, that you not use a Council facility at this time.\n\nFor more information visit:&nbsp\;https://www.news.coffsharbour.nsw.gov.au/2020/03/16/councils-novel-coronavirus-covid-19-safety-measures/\n\n&nbsp\;\n\nStorytime sessions are held once a week at all library branches for pre-school aged children and are free. The session goes for about&nbsp\;an&nbsp\;hour.\n\n&nbsp\;\n\nWe read a selection of picture books to the children\,&nbsp\;followed by craft activities.\n\n\n	When booking tickets \, please book a ticket for each member in your family group! E.g. one ticket for the adult attending\, and one ticket for each child attending.\n	Tickets for each session are released the week before.\n\n\n\n	Please limit your attendance to once a week - this allows other families to enjoy Storytime as well!\n	At this stage\, we can have a maximum of 20 people per session\, with family groups limited to 5. The amount of tickets one person can "purchase" will reflect this.\n	If you don't register for a session\, unfortunately you won't be able to attend Storytime.\n\n\nBookings are required - get your tickets here!\n
LOCATION:Toormina Library\, Minorie Drive\, Toormina NSW\, Australia\, NSW\, 2452
RRULE:FREQ=WEEKLY;INTERVAL=1;BYDAY=SA;COUNT=1
END:VEVENT
END:VCALENDAR
