BEGIN:VCALENDAR
VERSION:2.0
PRODID:-//My Community Diary//iCal Event//EN
CALSCALE:GREGORIAN
METHOD:PUBLISH
BEGIN:VEVENT
UID:7ef39cf7-a9cb-4ae1-a9df-96e8c663a69d
DTSTAMP:20260424T164409Z
DTSTART:20240621T000000Z
DTEND:20240621T235959Z
SUMMARY:EveryWoman Expo
DESCRIPTION:The EveryWoman Expo is back in 2023!\n\nRemember to schedule your calendars and pamper yourself with some of the best products in health\, beauty\, fashion\, food\, love\, lifestyle\, fitness\, spiritual solutions and more.\n\nSome Expo favourites include the Cooking Stage\, the Main Stage performances\, empowering seminars\, psychic readings – and of course – shopping the latest new women’s lifestyle products from over 150 companies!\n\nThere really is something for every woman at this event – so head along and let your hair down!
LOCATION:\, 21 Mounts Bay Road\, Perth\, WA 6000\, WA\, 6000
RRULE:FREQ=DAILY;INTERVAL=1;UNTIL=20240624T000000Z
END:VEVENT
END:VCALENDAR
