BEGIN:VCALENDAR
VERSION:2.0
PRODID:-//My Community Diary//iCal Event//EN
CALSCALE:GREGORIAN
METHOD:PUBLISH
BEGIN:VEVENT
UID:ddfaf98c-d947-42cf-b475-1302a380c461
DTSTAMP:20260424T160641Z
DTSTART:20230604T100000Z
DTEND:20230604T180000Z
SUMMARY:Cairns Ecofiesta
DESCRIPTION:Immerse yourself in a day of stellar performances\, hands on workshops and a massive eco-expo at Queensland's premier sustainability festival\, the Cairns Ecofiesta.\n\nHeld in the city’s lush tropical parklands\, on the doorstep of the Great Barrier Reef and Wet Tropics Rainforest\, it’s your unique chance to connect with an ancient landscape and the vibrant community working for its protection.\n\nWhether you’re kicking back to music\, hearing from experts\, exploring the latest in green tech or learning new sustainable living skills – there is something for everyone. The day features a dedicated family program for all ages\,  roving performers and an array of locally sourced food.\n\nThe Cairns Ecofiesta is the perfect time to celebrate sustainability in the tropics and will leave you inspired for a new tomorrow.
LOCATION:\, 123 Sheridan Street\, Cairns City\, QLD 4870\, QLD\, 4870
RRULE:FREQ=DAILY;INTERVAL=1;UNTIL=20240603T000000Z
END:VEVENT
END:VCALENDAR
