BEGIN:VCALENDAR
VERSION:2.0
PRODID:-//My Community Diary//iCal Event//EN
CALSCALE:GREGORIAN
METHOD:PUBLISH
BEGIN:VEVENT
UID:46bf3ef6-8d9d-400f-baf3-fc615834a5d6
DTSTAMP:20260424T160647Z
DTSTART:20240516T000000Z
DTEND:20240516T235959Z
SUMMARY:Blues on Broadbeach
DESCRIPTION:Blues on Broadbeach will return for its 23rd year from 16 - 19 May\, 2024!\n\nHeld throughout the beautiful Broadbeach precinct across four days\, the festival is a celebration of live rhythm and blues music featuring artists from around the world. \n \nThe 2023 lineup included international and national legends like acoustic guitar icon Tommy Emmanuel\, Don Walker\, Melbourne Ska Orchestra\, Emma Donovan & The Putbacks\, Chris Cheney\, Memphis’ own Marcus Scott and the Bo-Keys (USA)\, and so many more. Be sure to follow Blues on Broadbeach on Facebook and Instagram to stay up to date on all the latest festival news!
LOCATION:\, Surf Parade\, Broadbeach\, QLD 4218\, QLD\, 4218
RRULE:FREQ=DAILY;INTERVAL=1;UNTIL=20240520T000000Z
END:VEVENT
END:VCALENDAR
