BEGIN:VCALENDAR
VERSION:2.0
PRODID:-//My Community Diary//iCal Event//EN
CALSCALE:GREGORIAN
METHOD:PUBLISH
BEGIN:VEVENT
UID:0b059404-3f24-45da-a9b6-48bd8bbc5e7b
DTSTAMP:20260424T160649Z
DTSTART;TZID=E. Australia Standard Time:20201209T090000
DTEND;TZID=E. Australia Standard Time:20201209T160000
SUMMARY:Free Wi-Fi Access
DESCRIPTION:Beenleigh Neighbourhood Centre provides free Wi-Fi access (NBN broadband) to visitors and room users. Login details can be found on noticeboards and/or walls in each room.\n\nPlease note\, Beenleigh Neighbourhood Centre does not supply anti-virus and/or anti-malware software to users\, therefore it is the user’s responsibility to source and install suitable software on their devices(s) should they wish to do so.\n\nAccess is available in all rooms and common areas within the centre. Limited carpark coverage is also available.\n
LOCATION:Beenleigh Neighbourhood Centre \, 10-12 James Street\, Beenleigh QLD 4207\, QLD\, 4207
RRULE:FREQ=WEEKLY;BYDAY=MO,TU,WE,TH,FR
END:VEVENT
END:VCALENDAR
