BEGIN:VCALENDAR
VERSION:2.0
PRODID:-//My Community Diary//iCal Event//EN
CALSCALE:GREGORIAN
METHOD:PUBLISH
BEGIN:VEVENT
UID:201dcb0a-4fbd-4fdf-87d6-dff9a7d2782d
DTSTAMP:20260424T171602Z
DTSTART;TZID=E. Australia Standard Time:20201209T090000
DTEND;TZID=E. Australia Standard Time:20201209T160000
SUMMARY:Free Telephone Access
DESCRIPTION:Beenleigh Neighbourhood Centre provides free telephone access to the community. Telephones can be used to make and/or receive calls. Telephone handsets are situated in private offices\, however\, should a private office be unavailable a cordless handset will be made available for use.\n\nThis is a walk-in service\, appointments are not required.\n
LOCATION:Beenleigh Neighbourhood Centre \, 10-12 James Street\, Beenleigh QLD 4207\, QLD\, 4207
RRULE:FREQ=WEEKLY;BYDAY=MO,TU,WE,TH,FR
END:VEVENT
END:VCALENDAR
