BEGIN:VCALENDAR
VERSION:2.0
PRODID:-//My Community Diary//iCal Event//EN
CALSCALE:GREGORIAN
METHOD:PUBLISH
BEGIN:VEVENT
UID:212f011e-deba-45e3-baca-f3517b54003b
DTSTAMP:20260424T164547Z
DTSTART;VALUE=DATE:20210313
DTEND;VALUE=DATE:20210314
SUMMARY:The Blackwood Tour
DESCRIPTION:Now it its fifth&nbsp\;year\, the Rotary Tour of the Blackwood is one of the most challenging rides in Western Australia. Starting by the banks of the mighty Blackwood River\, the&nbsp\;Full Tour&nbsp\;meanders some 130km through stunning countryside between beautiful Bridgetown and the magical townsites of Balingup and Nannup\, and features over 2000m of climbing including a Category 4 ascent toward the finish line.\n\n&nbsp\;\n\nThe beautiful&nbsp\;Half n Best&nbsp\;and new&nbsp\;Not-So-Cozy&nbsp\;courses are great fun too!\n\n?\n\nAll proceeds from this ride are donated to&nbsp\;Blackwood Youth Action\, who provide much needed psychological support services and mental wellness programs for at-risk youth in the Blackwood region.\n
LOCATION:Blackwood River park\, Blackwood River Park\, Hampton Street\, Bridgetown WA\, Australia\, WA\, 6255
END:VEVENT
END:VCALENDAR
