BEGIN:VCALENDAR
VERSION:2.0
PRODID:-//My Community Diary//iCal Event//EN
CALSCALE:GREGORIAN
METHOD:PUBLISH
BEGIN:VEVENT
UID:d6c47458-7eb1-43ee-a96e-97cd026e427d
DTSTAMP:20260424T160717Z
DTSTART;TZID=E. Australia Standard Time:20210120T103000
DTEND;TZID=E. Australia Standard Time:20210120T140000
SUMMARY:Alpha Outreach Clinic - AOD
DESCRIPTION:Lives Lived Well will be visiting Alpha for an outreach clinic with face to face AOD counselling and case management available upon appointment. Contact 1300 727 957 or visit our website to make a referral - self referrals and provider referrals accepted.&nbsp\;\n
LOCATION:Alpha Hospital and Multipurpose Health Service\, 1 Burns Street\, Alpha QLD\, Australia\, QLD\, 4724
RRULE:FREQ=MONTHLY;INTERVAL=1;BYDAY=3MO;UNTIL=20210520T000000Z
END:VEVENT
END:VCALENDAR
