BEGIN:VCALENDAR
VERSION:2.0
PRODID:-//My Community Diary//iCal Event//EN
CALSCALE:GREGORIAN
METHOD:PUBLISH
BEGIN:VEVENT
UID:104b29a5-3934-45c7-87ff-eff91fe2caf2
DTSTAMP:20260424T160718Z
DTSTART;TZID=E. Australia Standard Time:20210122T100000
DTEND;TZID=E. Australia Standard Time:20210122T130000
SUMMARY:Winton Outreach Clinic - AOD 
DESCRIPTION:Lives Lived Well will be visiting Winton for an outreach clinic with face to face counselling and case management available upon appointment. Contact 1300 727 957 or visit our website to make a referral - self referrals and provider referrals are accepted.&nbsp\;\n
LOCATION:Winton Hospital\, Bloomfield Street\, Winton 4735\, QLD
RRULE:FREQ=WEEKLY;INTERVAL=2;BYDAY=FR;UNTIL=20210626T000000Z
END:VEVENT
END:VCALENDAR
