BEGIN:VCALENDAR
VERSION:2.0
PRODID:-//My Community Diary//iCal Event//EN
CALSCALE:GREGORIAN
METHOD:PUBLISH
BEGIN:VEVENT
UID:7d5a7670-ea55-49f8-812e-723728e74064
DTSTAMP:20260424T160647Z
DTSTART;TZID=E. Australia Standard Time:20210119T100000
DTEND;TZID=E. Australia Standard Time:20210119T130000
SUMMARY:Barcaldine Outreach Clinic - AOD
DESCRIPTION:Lives Lived Well will be visiting Barcaldine for an outreach clinic with face to face AOD counselling and case management available upon appointment. Contact 1300 727 957 or visit our website to make a referral - self referrals and provider referrals accepted.&nbsp\;\n
LOCATION:Barcaldine 60s and Better\, 13 Willow Street\, Barcaldine QLD\, Australia\, QLD\, 4725
RRULE:FREQ=WEEKLY;INTERVAL=2;BYDAY=TU;UNTIL=20210623T000000Z
END:VEVENT
END:VCALENDAR
