BEGIN:VCALENDAR
VERSION:2.0
PRODID:-//My Community Diary//iCal Event//EN
CALSCALE:GREGORIAN
METHOD:PUBLISH
BEGIN:VEVENT
UID:2ae3f9bf-3ae9-4d60-a91c-4a79fc199261
DTSTAMP:20260421T224301Z
DTSTART;TZID=AUS Eastern Standard Time:20210104T090000
DTEND;TZID=AUS Eastern Standard Time:20210104T170000
SUMMARY:BreastScreen mobile unit coming to South West Rocks
DESCRIPTION:The mobile unit will be returning to South West Rocks to provide free screening mammograms from 4 - 27 January 2021.\n\nThe mobile unit will be located on the corner of Phillip Drive and Short Street behind the South West Rocks County Club.\n\n1 in 7 women living in NSW will develop breast cancer in their lifetime. A screening mammogram offers the best chance of early detection. The screening program is especially recommended for women aged 50 to 74.\n\nBook your free mammogram online at book.breastscreen.nsw.gov.au or call 13 20 50.\n\nAppointments are open for booking now.\n
LOCATION:South West Rocks Country Club Carpark\, Short Street\, South West Rocks NSW\, Australia\, NSW\, 2431
RRULE:FREQ=WEEKLY;BYDAY=MO,TU,WE,TH,FR
END:VEVENT
END:VCALENDAR
