BEGIN:VCALENDAR
VERSION:2.0
PRODID:-//My Community Diary//iCal Event//EN
CALSCALE:GREGORIAN
METHOD:PUBLISH
BEGIN:VEVENT
UID:0b44a588-c55f-4566-894f-5f68cde81fc0
DTSTAMP:20260424T154956Z
DTSTART:20210511T080000Z
DTEND:20210511T170000Z
SUMMARY:Optometry - Bollon
DESCRIPTION:Franz Felfer Optometrist at Bollon Community Clinic. Please confirm precise times with the service provider. Please contact 0418 799 009 or franzfelfer@hotmail.com for more information about this visiting service.
LOCATION:\, 37 Main Street\, Bollon\, QLD\, 4488\, QLD\, 4488
END:VEVENT
END:VCALENDAR
