BEGIN:VCALENDAR
VERSION:2.0
PRODID:-//My Community Diary//iCal Event//EN
CALSCALE:GREGORIAN
METHOD:PUBLISH
BEGIN:VEVENT
UID:87859615-4910-48d9-b0cb-d539d9b12764
DTSTAMP:20260424T160642Z
DTSTART:20210422T080000Z
DTEND:20210422T170000Z
SUMMARY:Physician - Ophthalmology - Ayr
DESCRIPTION:Dr Todd Goodwin T/As NQ Eye Specialists at Helene Holmes Optique Eyes - Ayr. Please confirm precise times with the service provider.
LOCATION:\, 150 Queen Street\, Ayr\, QLD\, 4807\, QLD\, 4807
END:VEVENT
END:VCALENDAR
