BEGIN:VCALENDAR
VERSION:2.0
PRODID:-//My Community Diary//iCal Event//EN
CALSCALE:GREGORIAN
METHOD:PUBLISH
BEGIN:VEVENT
UID:a574ede1-a4e7-442b-aec7-3eaf5915ec65
DTSTAMP:20260424T160644Z
DTSTART:20210311T080000Z
DTEND:20210311T170000Z
SUMMARY:Physician - Cardiology - Maryborough
DESCRIPTION:Metro North Hospital and Health Service (ICOP) at Maryborough. Please confirm precise times with the service provider.
LOCATION:\, Maryborough\, QLD\, 4650\, QLD\, 4650
END:VEVENT
END:VCALENDAR
