BEGIN:VCALENDAR
VERSION:2.0
PRODID:-//My Community Diary//iCal Event//EN
CALSCALE:GREGORIAN
METHOD:PUBLISH
BEGIN:VEVENT
UID:c1a04f16-aed3-4cd8-9bd5-4d6cb8f337fe
DTSTAMP:20260424T173050Z
DTSTART:20210311T080000Z
DTEND:20210311T170000Z
SUMMARY:Registered Nurse - Cardiology - Maryborough
DESCRIPTION:Metro North Hospital and Health Service (ICOP) at Maryborough. Please confirm precise times with the service provider.
LOCATION:\, Maryborough\, QLD\, 4650\, QLD\, 4650
END:VEVENT
END:VCALENDAR
