BEGIN:VCALENDAR
VERSION:2.0
PRODID:-//My Community Diary//iCal Event//EN
CALSCALE:GREGORIAN
METHOD:PUBLISH
BEGIN:VEVENT
UID:5fcfca69-8f08-4499-818b-02c6432e8c8b
DTSTAMP:20260424T155946Z
DTSTART:20210120T080000Z
DTEND:20210120T170000Z
SUMMARY:Ophthalmology Assistant - Charleville
DESCRIPTION:Dr Rowan Porter at Ideas Van Mobile Van Clinic - Charleville. Please confirm precise times with the service provider.
LOCATION:\, Charleville\, QLD\, 4470\, QLD\, 4470
END:VEVENT
END:VCALENDAR
