BEGIN:VCALENDAR
VERSION:2.0
PRODID:-//My Community Diary//iCal Event//EN
CALSCALE:GREGORIAN
METHOD:PUBLISH
BEGIN:VEVENT
UID:8b59ecfc-ad75-4bcb-8366-cae219d8661e
DTSTAMP:20260424T160650Z
DTSTART:20201209T080000Z
DTEND:20201209T170000Z
SUMMARY:Sonography - Cardiology - Hervey Bay
DESCRIPTION:Metro North Hospital and Health Service (ICOP) at Hervey Bay. Please confirm precise times with the service provider.
LOCATION:\, Hervey Bay\, QLD\, 4655\, QLD\, 4655
END:VEVENT
END:VCALENDAR
