BEGIN:VCALENDAR
VERSION:2.0
PRODID:-//My Community Diary//iCal Event//EN
CALSCALE:GREGORIAN
METHOD:PUBLISH
BEGIN:VEVENT
UID:6df5e447-4ede-47aa-8123-3b1a87f3f8c4
DTSTAMP:20260424T160648Z
DTSTART:20201209T080000Z
DTEND:20201209T170000Z
SUMMARY:Physician - Cardiology - Hervey Bay
DESCRIPTION:Metro North Hospital and Health Service (ICOP) at Hervey Bay. Please confirm precise times with the service provider.
LOCATION:\, Hervey Bay\, QLD\, 4655\, QLD\, 4655
END:VEVENT
END:VCALENDAR
